Workbook

Sheet Simple Budget P&L Format
A1: FY27 Simple Budget
B3: FY27 Budget
A4: Income
A5: Total Contributions | B5: ='FY27 Consolidated View'!K7 -> 15850
A6: Total Event Revenue | B6: ='FY27 Consolidated View'!K8 -> 27800
A7: Grants (Angel Funds) | B7: ='FY27 Consolidated View'!K9 -> 0
A8: Interest Earned | B8: ='FY27 Consolidated View'!K10 -> 0
A9: Total Sales of Product Income | B9: ='FY27 Consolidated View'!K11 -> 10000
A10: Unrelated Business Income (Directory Ads) | B10: ='FY27 Consolidated View'!K12 -> 1000
A11: Total for Income | B11: ='FY27 Consolidated View'!K13 -> 54650
A13: Expenses
A14: Total Educational Materials | B14: ='FY27 Consolidated View'!K16 -> 13062.5
A15: Total Food and Beverages | B15: ='FY27 Consolidated View'!K17 -> 11325
A16: Total Information Technology | B16: ='FY27 Consolidated View'!K18 -> 130
A17: Insurance | B17: ='FY27 Consolidated View'!K19 -> 574
A18: Total Materials and Supplies | B18: ='FY27 Consolidated View'!K20 -> 14836
A19: Total Occupancy/Rent | B19: ='FY27 Consolidated View'!K21 -> 2625
A20: Total Office/General Administrative Expense | B20: ='FY27 Consolidated View'!K22 -> 27
A21: Total Printing, Publication, Postage | B21: ='FY27 Consolidated View'!K23 -> 3015
A22: Total Professional Fees & Independent | B22: ='FY27 Consolidated View'!K24 -> 14356
A23: Total Uncategorized | B23: ='FY27 Consolidated View'!K25 -> 650
A24: Total for Expenses | B24: ='FY27 Consolidated View'!K26 -> 60600.5
A25: Net Operating Income | B25: ='FY27 Consolidated View'!K27 -> -5950.5

Sheet Simple Budget Classes Format
A1: FY27 Simple Budget by Class
B3: FY27 Budget
A4: Income
A5: Community Partnerships | B5: ='FY27 Consolidated View'!B13+'FY27 Consolidated View'!C13 -> 13650
A6: Fundraising Events | B6: ='FY27 Consolidated View'!G13+'FY27 Consolidated View'!H13+'FY27 Consolidated View'!I13+'FY27 Consolidated View'!J13+'FY27 Consolidated View'!F13+'FY27 Consolidated View'!E13 -> 41000
A7: Total for Income | B7: =SUM(B5:B6) -> 54650
A9: Expenses
A10: General Administration | B10: ='FY27 Consolidated View'!B26 -> 3756
A11: Programs (Educational Enrichment) | B11: ='FY27 Consolidated View'!C26 -> 14147.5
A12: Grants | B12: ='FY27 Consolidated View'!D26 -> 10340
A13: Community and Cultural Events | B13: ='FY27 Consolidated View'!E26 -> 8500
A14: Parental Involvement | B14: ='FY27 Consolidated View'!F26 -> 11191
A15: Fundraising Events | B15: ='FY27 Consolidated View'!G26+'FY27 Consolidated View'!H26+'FY27 Consolidated View'!I26+'FY27 Consolidated View'!J26 -> 12666
A16: Total for Expenses | B16: =SUM(B10:B15) -> 60600.5
A17: Net Operating Income | B17: ='FY27 Consolidated View'!K27 -> -5950.5

Sheet FY27 Consolidated View
A1: FY27 Consolidated View
B5: 1_General Administration | C5: 2_Programs (Educational and Enrichment) | D5: 2b_Grant Program | E5: 3_Events (Community and Cultural) | F5: 4_Parental Involvement | G5: 5_Other Fundraising Events | H5: 5b_Bobcat Bolt | I5: 5c_Fun Fair | J5: 5d_Plant Sale | K5: Total
A6: Income
A7: Total Contributions | B7: ='1_General Administration'!B14 -> 9950 | C7: ='2_Programs (Educational and Enr'!B9 -> 2700 | D7: ='2b_Grant Program'!B7 -> 0 | E7: ='3_Events (Community and Cultura'!B7 -> 0 | F7: ='4_Parental Involvement'!B7 -> 0 | G7: ='5_Other Fundraising Events'!B11 -> 3200 | H7: ='5b_Bobcat Bolt'!B7 -> 0 | I7: ='5c_Fun Fair'!B7 -> 0 | J7: ='5d_Plant Sale'!B7 -> 0 | K7: =SUM(B7:J7) -> 15850
A8: Total Event Revenue | B8: ='1_General Administration'!B15 -> 0 | C8: ='2_Programs (Educational and Enr'!B10 -> 0 | D8: ='2b_Grant Program'!B8 -> 0 | E8: ='3_Events (Community and Cultura'!B13 -> 800 | F8: ='4_Parental Involvement'!B10 -> 3500 | G8: ='5_Other Fundraising Events'!B16 -> 1500 | H8: ='5b_Bobcat Bolt'!B10 -> 10000 | I8: ='5c_Fun Fair'!B10 -> 12000 | J8: ='5d_Plant Sale'!B8 -> 0 | K8: =SUM(B8:J8) -> 27800
A9: Grants (Angel Funds) | B9: ='1_General Administration'!B16 -> 0 | C9: ='2_Programs (Educational and Enr'!B11 -> 0 | D9: ='2b_Grant Program'!B9 -> 0 | E9: ='3_Events (Community and Cultura'!B14 -> 0 | F9: ='4_Parental Involvement'!B11 -> 0 | G9: ='5_Other Fundraising Events'!B17 -> 0 | H9: ='5b_Bobcat Bolt'!B11 -> 0 | I9: ='5c_Fun Fair'!B11 -> 0 | J9: ='5d_Plant Sale'!B9 -> 0 | K9: =SUM(B9:J9) -> 0
A10: Interest Earned | B10: ='1_General Administration'!B17 -> 0 | C10: ='2_Programs (Educational and Enr'!B12 -> 0 | D10: ='2b_Grant Program'!B10 -> 0 | E10: ='3_Events (Community and Cultura'!B15 -> 0 | F10: ='4_Parental Involvement'!B12 -> 0 | G10: ='5_Other Fundraising Events'!B18 -> 0 | H10: ='5b_Bobcat Bolt'!B12 -> 0 | I10: ='5c_Fun Fair'!B12 -> 0 | J10: ='5d_Plant Sale'!B10 -> 0 | K10: =SUM(B10:J10) -> 0
A11: Total Sales of Product Income | B11: ='1_General Administration'!B18 -> 0 | C11: ='2_Programs (Educational and Enr'!B13 -> 0 | D11: ='2b_Grant Program'!B11 -> 0 | E11: ='3_Events (Community and Cultura'!B16 -> 0 | F11: ='4_Parental Involvement'!B13 -> 0 | G11: ='5_Other Fundraising Events'!B22 -> 1000 | H11: ='5b_Bobcat Bolt'!B13 -> 0 | I11: ='5c_Fun Fair'!B13 -> 0 | J11: ='5d_Plant Sale'!B13 -> 9000 | K11: =SUM(B11:J11) -> 10000
A12: Unrelated Business Income (Directory Ads) | B12: ='1_General Administration'!B19 -> 1000 | C12: ='2_Programs (Educational and Enr'!B14 -> 0 | D12: ='2b_Grant Program'!B12 -> 0 | E12: ='3_Events (Community and Cultura'!B17 -> 0 | F12: ='4_Parental Involvement'!B14 -> 0 | G12: ='5_Other Fundraising Events'!B23 -> 0 | H12: ='5b_Bobcat Bolt'!B14 -> 0 | I12: ='5c_Fun Fair'!B14 -> 0 | J12: ='5d_Plant Sale'!B14 -> 0 | K12: =SUM(B12:J12) -> 1000
A13: Total for Income | B13: =SUM(B7:B12) -> 10950 | C13: =SUM(C7:C12) -> 2700 | D13: =SUM(D7:D12) -> 0 | E13: =SUM(E7:E12) -> 800 | F13: =SUM(F7:F12) -> 3500 | G13: =SUM(G7:G12) -> 5700 | H13: =SUM(H7:H12) -> 10000 | I13: =SUM(I7:I12) -> 12000 | J13: =SUM(J7:J12) -> 9000 | K13: =SUM(B13:J13) -> 54650
A15: Expenses
A16: Total Educational Materials | B16: ='1_General Administration'!B23 -> 0 | C16: ='2_Programs (Educational and Enr'!B25 -> 2722.5 | D16: ='2b_Grant Program'!B18 -> 10340 | E16: ='3_Events (Community and Cultura'!B21 -> 0 | F16: ='4_Parental Involvement'!B18 -> 0 | G16: ='5_Other Fundraising Events'!B27 -> 0 | H16: ='5b_Bobcat Bolt'!B18 -> 0 | I16: ='5c_Fun Fair'!B18 -> 0 | J16: ='5d_Plant Sale'!B18 -> 0 | K16: =SUM(B16:J16) -> 13062.5
A17: Total Food and Beverages | B17: ='1_General Administration'!B26 -> 0 | C17: ='2_Programs (Educational and Enr'!B26 -> 0 | D17: ='2b_Grant Program'!B19 -> 0 | E17: ='3_Events (Community and Cultura'!B31 -> 3200 | F17: ='4_Parental Involvement'!B25 -> 6225 | G17: ='5_Other Fundraising Events'!B30 -> 600 | H17: ='5b_Bobcat Bolt'!B19 -> 0 | I17: ='5c_Fun Fair'!B21 -> 1300 | J17: ='5d_Plant Sale'!B19 -> 0 | K17: =SUM(B17:J17) -> 11325
A18: Total Information Technology | B18: ='1_General Administration'!B32 -> 130 | C18: ='2_Programs (Educational and Enr'!B27 -> 0 | D18: ='2b_Grant Program'!B20 -> 0 | E18: ='3_Events (Community and Cultura'!B32 -> 0 | F18: ='4_Parental Involvement'!B26 -> 0 | G18: ='5_Other Fundraising Events'!B31 -> 0 | H18: ='5b_Bobcat Bolt'!B20 -> 0 | I18: ='5c_Fun Fair'!B22 -> 0 | J18: ='5d_Plant Sale'!B20 -> 0 | K18: =SUM(B18:J18) -> 130
A19: Insurance | B19: ='1_General Administration'!B33 -> 574 | C19: ='2_Programs (Educational and Enr'!B28 -> 0 | D19: ='2b_Grant Program'!B21 -> 0 | E19: ='3_Events (Community and Cultura'!B33 -> 0 | F19: ='4_Parental Involvement'!B27 -> 0 | G19: ='5_Other Fundraising Events'!B32 -> 0 | H19: ='5b_Bobcat Bolt'!B21 -> 0 | I19: ='5c_Fun Fair'!B23 -> 0 | J19: ='5d_Plant Sale'!B21 -> 0 | K19: =SUM(B19:J19) -> 574
A20: Total Materials and Supplies | B20: ='1_General Administration'!B34 -> 0 | C20: ='2_Programs (Educational and Enr'!B36 -> 2625 | D20: ='2b_Grant Program'!B22 -> 0 | E20: ='3_Events (Community and Cultura'!B41 -> 2850 | F20: ='4_Parental Involvement'!B33 -> 1486 | G20: ='5_Other Fundraising Events'!B35 -> 375 | H20: ='5b_Bobcat Bolt'!B24 -> 300 | I20: ='5c_Fun Fair'!B26 -> 1200 | J20: ='5d_Plant Sale'!B24 -> 6000 | K20: =SUM(B20:J20) -> 14836
A21: Total Occupancy/Rent | B21: ='1_General Administration'!B37 -> 0 | C21: ='2_Programs (Educational and Enr'!B37 -> 0 | D21: ='2b_Grant Program'!B23 -> 0 | E21: ='3_Events (Community and Cultura'!B46 -> 450 | F21: ='4_Parental Involvement'!B34 -> 0 | G21: ='5_Other Fundraising Events'!B38 -> 675 | H21: ='5b_Bobcat Bolt'!B25 -> 0 | I21: ='5c_Fun Fair'!B29 -> 1500 | J21: ='5d_Plant Sale'!B25 -> 0 | K21: =SUM(B21:J21) -> 2625
A22: Total Office/General Administrative Expense | B22: ='1_General Administration'!B40 -> 27 | C22: ='2_Programs (Educational and Enr'!B38 -> 0 | D22: ='2b_Grant Program'!B24 -> 0 | E22: ='3_Events (Community and Cultura'!B47 -> 0 | F22: ='4_Parental Involvement'!B35 -> 0 | G22: ='5_Other Fundraising Events'!B39 -> 0 | H22: ='5b_Bobcat Bolt'!B26 -> 0 | I22: ='5c_Fun Fair'!B30 -> 0 | J22: ='5d_Plant Sale'!B26 -> 0 | K22: =SUM(B22:J22) -> 27
A23: Total Printing, Publication, Postage | B23: ='1_General Administration'!B45 -> 1775 | C23: ='2_Programs (Educational and Enr'!B39 -> 0 | D23: ='2b_Grant Program'!B25 -> 0 | E23: ='3_Events (Community and Cultura'!B50 -> 0 | F23: ='4_Parental Involvement'!B38 -> 780 | G23: ='5_Other Fundraising Events'!B42 -> 350 | H23: ='5b_Bobcat Bolt'!B29 -> 30 | I23: ='5c_Fun Fair'!B33 -> 50 | J23: ='5d_Plant Sale'!B29 -> 30 | K23: =SUM(B23:J23) -> 3015
A24: Total Professional Fees & Independent | B24: ='1_General Administration'!B48 -> 750 | C24: ='2_Programs (Educational and Enr'!B45 -> 8800 | D24: ='2b_Grant Program'!B26 -> 0 | E24: ='3_Events (Community and Cultura'!B54 -> 2000 | F24: ='4_Parental Involvement'!B43 -> 2550 | G24: ='5_Other Fundraising Events'!B45 -> 256 | H24: ='5b_Bobcat Bolt'!B30 -> 0 | I24: ='5c_Fun Fair'!B34 -> 0 | J24: ='5d_Plant Sale'!B30 -> 0 | K24: =SUM(B24:J24) -> 14356
A25: Total Uncategorized | B25: ='1_General Administration'!B51 -> 500 | C25: 0 | D25: 0 | E25: 0 | F25: ='4_Parental Involvement'!B50 -> 150 | G25: 0 | H25: 0 | I25: 0 | J25: 0 | K25: =SUM(B25:J25) -> 650
A26: Total for Expenses | B26: =SUM(B16:B25) -> 3756 | C26: =SUM(C16:C25) -> 14147.5 | D26: =SUM(D16:D25) -> 10340 | E26: =SUM(E16:E25) -> 8500 | F26: =SUM(F16:F25) -> 11191 | G26: =SUM(G16:G25) -> 2256 | H26: =SUM(H16:H25) -> 330 | I26: =SUM(I16:I25) -> 4050 | ... K26: =SUM(K16:K25) -> 60600.5
A27: Net Operating Income | B27: =B13-B26 -> 7194 | C27: =C13-C26 -> -11447.5 | D27: =D13-D26 -> -10340 | E27: =E13-E26 -> -7700 | F27: =F13-F26 -> -7691 | G27: =G13-G26 -> 3444 | H27: =H13-H26 -> 9670 | I27: =I13-I26 -> 7950 | ... K27: =K13-K26 -> -5950.5

Sheet 1_General Administration
A1: FY27 Budget - General Administration
B5: FY27 Budget
A6: Income
A7: Contributions
A8: Right at School Profit Sharing | B8: =2800*2 -> 5600
A9: School Tool Box Profit Sharing | B9: 1100
A10: ByDiscovery Profit Sharing | B10: 3000
A11: 1st Place Spirit Profit Sharing (Beye-wear) | B11: 250
A12: One Earth Film Festival Grant | B12: 0
A13: Other Profit Sharing (Mabels Labels, BoxTops, etc) | B13: 0
A14: Total Contributions | B14: =SUM(B8:B13) -> 9950
A15: Total Event Revenue | B15: 0
A16: Grants (Angel Funds) | B16: 0
A17: Interest Earned | B17: 0
A18: Total Sales of Product Income | B18: 0
A19: Unrelated Business Income (Directory Ads) | B19: 1000
A20: Total for Income | B20: =B14+B15+B16+B17+B18+B19 -> 10950
A22: Expenses
A23: Total Educational Materials | B23: 0
A24: Food and Beverages
A25: My Meal Time Account Balance Forgiveness | B25: 0
A26: Total Food and Beverages | B26: 0
A27: Information Technology
A28: Konstella Subscription | B28: 0
A29: Sqaurespace Subscription (previously Hostgator + Weebly) | B29: 30
A30: Byline Bank Account Maintenance Fee | B30: 20
A31: Quick Books / Intuit Subscription | B31: 80
A32: Total Information Technology | B32: =SUM(B28:B31) -> 130
A33: Insurance | B33: 574
A34: Total Materials and Supplies | B34: 0
A35: Occupancy/Rent
A36: Custodial Fees for General Meeting | B36: 0
A37: Total Occupancy/Rent | B37: =B36 -> 0
A38: Office/General Administrative Expense
A39: Tax Filings | B39: 27
A40: Total Office/General Administrative Expense | B40: =SUM(B39) -> 27
A41: Printing, Publication, Postage
A42: Direcory Printing | B42: 275
A43: PTO Newsletter Printing (x5) | B43: 300
A44: Yearbook Printing | B44: 1200
...

Sheet 2_Programs (Educational and Enr
A1: FY27 Budget - Programs (Educational and Enrichment)
B5: FY27 Budget
A6: Income
A7: Contributions
A8: Anderson's Books Book Fair Profit Sharing | B8: 2700
A9: Total Contributions | B9: =B8 -> 2700
A10: Total Event Revenue | B10: 0
A11: Grants (Angel Funds) | B11: 0
A12: Interest Earned | B12: 0
A13: Total Sales of Product Income | B13: 0
A14: Unrelated Business Income (Directory Ads) | B14: 0
A15: Total for Income | B15: =B9+B10+B11+B12+B13+B14 -> 2700
A17: Expenses
A18: Educational Materials
A19: Birthday Books Order w/ Scholastic | B19: 0
A20: Book Fair Vouchers | B20: 1200
A21: Sigunick Scholastic Order | B21: 137.5
A22: Time for Kids Order (K-1) | B22: 577.5
A23: Time for Kids Order (2nd Grade) | B23: 357.5
A24: One-Book-One-District Books | B24: 450
A25: Total Educational Materials | B25: =SUM(B19:B24) -> 2722.5
A26: Total Food and Beverages | B26: 0
A27: Total Information Technology | B27: 0
A28: Insurance | B28: 0
A29: Materials and Supplies
A30: Staff Wellness Program Prizes | B30: 350
A31: Spelling Bee Materials and Prizes | B31: 375
A32: First Grade Garden | B32: 300
A33: Student Green Team + Lunchroom Waste Sorting | B33: 800
A34: Food Pantry Maintenance | B34: 400
A35: Academic Enrchment Nights (x2) | B35: 400
A36: Total Materials and Supplies | B36: =SUM(B30:B35) -> 2625
A37: Total Occupancy/Rent | B37: 0
A38: Total Office/General Administrative Expense | B38: 0
A39: Total Printing, Publication, Postage | B39: 0
A40: Professional Fees & Independent
A41: Schoolwide Assemblies (x2) | B41: 3150
A42: Earth Month Assembly | B42: 500
A43: Hubbard Street Dance | B43: 3600
A44: Opera For the Young | B44: 1550
...

Sheet 2b_Grant Program
A1: FY27 Budget - Grant Program
B5: FY27 Budget
A6: Income
A7: Total Contributions | B7: 0
A8: Total Event Revenue | B8: 0
A9: Grants (Angel Funds) | B9: 0
A10: Interest Earned | B10: 0
A11: Total Sales of Product Income | B11: 0
A12: Unrelated Business Income (Directory Ads) | B12: 0
A13: Total for Income | B13: =B7+B8+B9+B10+B11+B12 -> 0
A15: Expenses
A16: Educational Materials
A17: Grants Program for Staff | B17: 10340
A18: Total Educational Materials | B18: =SUM(B17) -> 10340
A19: Total Food and Beverages | B19: 0
A20: Total Information Technology | B20: 0
A21: Insurance | B21: 0
A22: Total Materials and Supplies | B22: 0
A23: Total Occupancy/Rent | B23: 0
A24: Total Office/General Administrative Expense | B24: 0
A25: Total Printing, Publication, Postage | B25: 0
A26: Total Professional Fees & Independent | B26: 0
A27: Total for Expenses | B27: =B18+B19+B20+B21+B22+B23+B24+B25+B26 -> 10340

Sheet 3_Events (Community and Cultura
A1: FY27 Budget - Events (Community and Cultural)
B5: FY27 Budget
A6: Income
A7: Total Contributions | B7: 0
A8: Event Revenue
A9: Back-to-School Picnic Raffle | B9: 250
A10: Various Event Concessions and Cash Box Revenue | B10: 0
A11: Hatch-Whittier-Beye Family Skate Night | B11: 300
A12: End of Year Picnic Raffle | B12: 250
A13: Total Event Revenue | B13: =SUM(B9:B12) -> 800
A14: Grants (Angel Funds) | B14: 0
A15: Interest Earned | B15: 0
A16: Total Sales of Product Income | B16: 0
A17: Unrelated Business Income (Directory Ads) | B17: 0
A18: Total for Income | B18: =B7+B13+B14+B15+B16+B17 -> 800
A20: Expenses
A21: Total Educational Materials | B21: 0
A22: Food and Beverages
A23: Concessions for various events | B23: 0
A24: Great Apple Crunch | B24: 0
A25: Turkey Trot drinks | B25: 50
A26: Dia de Los Muertos Food | B26: 750
A27: Black History Month Food | B27: 750
A28: Lunar New Year Food | B28: 750
A29: Olympic Day Food | B29: 400
A30: PTO Backyard Social / Recruitment Event / Volunteer Appreciation | B30: 500
A31: Total Food and Beverages | B31: =SUM(B23:B30) -> 3200
A32: Total Information Technology | B32: 0
A33: Insurance | B33: 0
A34: Materials and Supplies
A35: Back-to-School Picnic | B35: 0
A36: Dia de Los Muertos Supplies | B36: 750
A37: Black History Month Suppiles | B37: 750
A38: Lunar New Year Supplie | B38: 750
A39: End of Year Picnic Supplies | B39: 0
A40: Olympic Day Supplies | B40: 600
A41: Total Materials and Supplies | B41: =SUM(B35:B40) -> 2850
A42: Occupancy/Rent
A43: Dia de Los Muertos Facility Fee | B43: 150
A44: Black History Month Facility Fee | B44: 150
...

Sheet 4_Parental Involvement
A1: FY27 Budget - Parental Involvement
B5: FY27 Budget
A6: Income
A7: Total Contributions | B7: 0
A8: Event Revenue
A9: Parent's Night Out Ticket Sales | B9: 3500
A10: Total Event Revenue | B10: =B9 -> 3500
A11: Grants (Angel Funds) | B11: 0
A12: Interest Earned | B12: 0
A13: Total Sales of Product Income | B13: 0
A14: Unrelated Business Income (Directory Ads) | B14: 0
A15: Total for Income | B15: =B7+B10+B11+B12+B13+B14 -> 3500
A17: Expenses
A18: Total Educational Materials | B18: 0
A19: Food and Beverages
A20: Kindergarten Playdate popscicles | B20: 60
A21: Parent Teacher Conferences Meals (x2) | B21: 900
A22: Parents Night Out Food | B22: 1000
A23: Teacher Appreciation Week Food | B23: 2000
A24: 5th Grade Graduation | B24: 2325
A25: Total Food and Beverages | B25: =SUM(B21:B24) -> 6225
A26: Total Information Technology | B26: 0
A27: Insurance | B27: 0
A28: Materials and Supplies
A29: Card My Yard and Imprint Yard Signs | B29: 286
A30: Kindergarten Blast Off (key-chains) | B30: 300
A31: 5th Grade Memory Shirt Off-set | B31: =80*5 -> 400
A32: 5th Grade Graduation | B32: 500
A33: Total Materials and Supplies | B33: =SUM(B29:B32) -> 1486
A34: Total Occupancy/Rent | B34: 0
A35: Total Office/General Administrative Expense | B35: 0
A36: Printing, Publication, Postage
A37: Yard Signs for 5th grade and for Kindergarten | B37: 780
A38: Total Printing, Publication, Postage | B38: =B37 -> 780
A39: Professional Fees & Independent
A40: Parents Night Out Venue Fee | B40: 1300
A41: Parents Night Out Childcare | B41: 500
A42: Curriculum Night Childcare | B42: 750
A43: Total Professional Fees & Independent | B43: =SUM(B40:B42) -> 2550
A44: Uncategorized
...

Sheet 5_Other Fundraising Events
A1: FY27 Budget - Other Fundraising Events
B5: FY27 Budget
A6: Income
A7: Contributions
A8: Unrestricted General Donations | B8: 2000
A9: Dine-Outs (x4) | B9: 1200
A10: Other Donations | B10: 0
A11: Total Contributions | B11: =SUM(B8:B10) -> 3200
A12: Event Revenue
A13: Mahjong Fundraiser | B13: 0
A14: Pancake Breakfast | B14: 1500
A15: 5th Grade Fundraiser | B15: 0
A16: Total Event Revenue | B16: =SUM(B13:B15) -> 1500
A17: Grants (Angel Funds) | B17: 0
A18: Interest Earned | B18: 0
A19: Sales of Product Income
A20: Beye-a-Brick | B20: 1000
A21: Vintage Beye-wear | B21: 0
A22: Total Sales of Product Income | B22: =SUM(B20:B21) -> 1000
A23: Unrelated Business Income (Directory Ads) | B23: 0
A24: Total for Income | B24: =B11+B16+B17+B18+B22+B23 -> 5700
A26: Expenses
A27: Total Educational Materials | B27: 0
A28: Food and Beverages
A29: Pancake Breakfast Food Supplies | B29: 600
A30: Total Food and Beverages | B30: =SUM(B29) -> 600
A31: Total Information Technology | B31: 0
A32: Insurance | B32: 0
A33: Materials and Supplies
A34: Beye-a-Brick Materials | B34: 375
A35: Total Materials and Supplies | B35: =SUM(B34) -> 375
A36: Occupancy/Rent
A37: Facility Fee for Pancake Breakfast | B37: 675
A38: Total Occupancy/Rent | B38: =SUM(B37) -> 675
A39: Total Office/General Administrative Expense | B39: 0
A40: Printing, Publication, Postage
A41: Magnets for End of Year Campaign Gift | B41: 350
A42: Total Printing, Publication, Postage | B42: =SUM(B41) -> 350
A43: Proffesional Fees & Independent
A44: Beye-a-Brick Installation | B44: 256
...

Sheet 5b_Bobcat Bolt
A1: FY27 Budget - Bobcat Bolt
B5: FY27 Budget
A6: Income
A7: Total Contributions | B7: 0
A8: Event Revenue
A9: Bobcat Bolt Donations | B9: 10000
A10: Total Event Revenue | B10: =SUM(B9) -> 10000
A11: Grants (Angel Funds) | B11: 0
A12: Interest Earned | B12: 0
A13: Total Sales of Product Income | B13: 0
A14: Unrelated Business Income (Directory Ads) | B14: 0
A15: Total for Income | B15: =B7+B10+B11+B12+B13+B14 -> 10000
A17: Expenses
A18: Total Educational Materials | B18: 0
A19: Total Food and Beverages | B19: 0
A20: Total Information Technology | B20: 0
A21: Insurance | B21: 0
A22: Materials and Supplies
A23: Bobcat Bolt Supplies | B23: 300
A24: Total Materials and Supplies | B24: =SUM(B23) -> 300
A25: Total Occupancy/Rent | B25: 0
A26: Total Office/General Administrative Expense | B26: 0
A27: Printing, Publication, Postage
A28: Bobcat Bolt Flyer | B28: 30
A29: Total Printing, Publication, Postage | B29: =SUM(B28) -> 30
A30: Total Professional Fees & Independent | B30: 0
A31: Total for Expenses | B31: =B18+B19+B20+B21+B24+B25+B26+B29+B30 -> 330

Sheet 5c_Fun Fair
A1: FY27 Budget - Fun Fair
B5: FY27 Budget
A6: Income
A7: Total Contributions | B7: 0
A8: Event Revenue
A9: Fun Fair Revenue (sponsorships, tickets, auction, raffle) | B9: 12000
A10: Total Event Revenue | B10: =SUM(B9) -> 12000
A11: Grants (Angel Funds) | B11: 0
A12: Interest Earned | B12: 0
A13: Total Sales of Product Income | B13: 0
A14: Unrelated Business Income (Directory Ads) | B14: 0
A15: Total for Income | B15: =B7+B10+B11+B12+B13+B14 -> 12000
A17: Expenses
A18: Total Educational Materials | B18: 0
A19: Food and Beverages
A20: Fun Fair Food | B20: 1300
A21: Total Food and Beverages | B21: =SUM(B20) -> 1300
A22: Total Information Technology | B22: 0
A23: Insurance | B23: 0
A24: Materials and Supplies
A25: Fun Fair Supplies | B25: 1200
A26: Total Materials and Supplies | B26: =SUM(B25) -> 1200
A27: Occupancy/Rent
A28: Facility Fee for Fun Fair | B28: 1500
A29: Total Occupancy/Rent | B29: =SUM(B28) -> 1500
A30: Total Office/General Administrative Expense | B30: 0
A31: Printing, Publication, Postage
A32: Fun Fair Flyer and Raffle Vouchers Printing | B32: 50
A33: Total Printing, Publication, Postage | B33: =SUM(B32) -> 50
A34: Total Professional Fees & Independent | B34: 0
A35: Total for Expenses | B35: =B18+B21+B22+B23+B26+B29+B30+B33+B34 -> 4050

Sheet 5d_Plant Sale
A1: FY27 Budget - Plant Sale
B5: FY27 Budget
A6: Income
A7: Total Contributions | B7: 0
A8: Total Event Revenue | B8: 0
A9: Grants (Angel Funds) | B9: 0
A10: Interest Earned | B10: 0
A11: Sales of Product Income
A12: Plant Sale | B12: 9000
A13: Total Sales of Product Income | B13: =SUM(B12) -> 9000
A14: Unrelated Business Income (Directory Ads) | B14: 0
A15: Total for Income | B15: =B7+B8+B9+B10+B13+B14 -> 9000
A17: Expenses
A18: Total Educational Materials | B18: 0
A19: Total Food and Beverages | B19: 0
A20: Total Information Technology | B20: 0
A21: Insurance | B21: 0
A22: Materials and Supplies
A23: Plant Sale Plants | B23: 6000
A24: Total Materials and Supplies | B24: =SUM(B23) -> 6000
A25: Total Occupancy/Rent | B25: 0
A26: Total Office/General Administrative Expense | B26: 0
A27: Printing, Publication, Postage
A28: Plant Sale Flyer | B28: 30
A29: Total Printing, Publication, Postage | B29: =SUM(B28) -> 30
A30: Total Professional Fees & Independent | B30: 0
A31: Total for Expenses | B31: =B18+B19+B20+B21+B24+B25+B26+B29+B30 -> 6030

Sheet Capital Budget Items
A1: FY27 Capital Budget
A3: Item | B3: Cost
A4: Performing Arts Sound System | B4: 10000
A5: Music stands and stand rack for cellos | B5: =1302+1058 -> 2360
A6: Theater Backdrop/Scrim and Projector | B6: 1200
A7: Buddy Bench | B7: 1095
A8: PA Outdoor Speaker and Accessories | B8: =900 -> 900
A9: Trees (x4) for front of school | B9: 645
A10: Pop-up tent(s) for various events | B10: 300
A11: Total | B11: =SUM(B4:B10) -> 16500
